BEGIN:VCALENDAR
VERSION:2.0
PRODID:-//Förderverein der Stadtbibliothek Syke e.V. - ECPv6.15.20//NONSGML v1.0//EN
CALSCALE:GREGORIAN
METHOD:PUBLISH
X-WR-CALNAME:Förderverein der Stadtbibliothek Syke e.V.
X-ORIGINAL-URL:https://foerderverein-stadtbibliothek-syke.de
X-WR-CALDESC:Veranstaltungen für Förderverein der Stadtbibliothek Syke e.V.
REFRESH-INTERVAL;VALUE=DURATION:PT1H
X-Robots-Tag:noindex
X-PUBLISHED-TTL:PT1H
BEGIN:VTIMEZONE
TZID:Europe/Berlin
BEGIN:DAYLIGHT
TZOFFSETFROM:+0100
TZOFFSETTO:+0200
TZNAME:CEST
DTSTART:20250330T010000
END:DAYLIGHT
BEGIN:STANDARD
TZOFFSETFROM:+0200
TZOFFSETTO:+0100
TZNAME:CET
DTSTART:20251026T010000
END:STANDARD
BEGIN:DAYLIGHT
TZOFFSETFROM:+0100
TZOFFSETTO:+0200
TZNAME:CEST
DTSTART:20260329T010000
END:DAYLIGHT
BEGIN:STANDARD
TZOFFSETFROM:+0200
TZOFFSETTO:+0100
TZNAME:CET
DTSTART:20261025T010000
END:STANDARD
BEGIN:DAYLIGHT
TZOFFSETFROM:+0100
TZOFFSETTO:+0200
TZNAME:CEST
DTSTART:20270328T010000
END:DAYLIGHT
BEGIN:STANDARD
TZOFFSETFROM:+0200
TZOFFSETTO:+0100
TZNAME:CET
DTSTART:20271031T010000
END:STANDARD
END:VTIMEZONE
BEGIN:VEVENT
DTSTART;TZID=Europe/Berlin:20260602T153000
DTEND;TZID=Europe/Berlin:20260602T163000
DTSTAMP:20260422T145811
CREATED:20260107T182501Z
LAST-MODIFIED:20260107T182501Z
UID:3507-1780414200-1780417800@foerderverein-stadtbibliothek-syke.de
SUMMARY:Bilderbuchkino
DESCRIPTION:Alexandra Eschenlohr – „Vielfalt beflügelt“ und von Ingo Siegner – „Nachts auf dem Sambesi“ \n\nAnmeldung: Stadtbibliothek Syke \nTel.: 04242164235 \nE-Mail: Bibliothek@Syke.de \nWir freuen uns auf Euch.
URL:https://foerderverein-stadtbibliothek-syke.de/termin/bilderbuchkino-20/
LOCATION:Stadtbibliothek Syke\, Hinrich-Hanno-Platz 1\, Syke
CATEGORIES:Bilderbuchkino
ATTACH;FMTTYPE=image/jpeg:https://foerderverein-stadtbibliothek-syke.de/wp-content/uploads/2024/09/katharina_wittneben.jpg
ORGANIZER;CN="Stadtbibliothek Syke":MAILTO:bibliothek@syke.de
END:VEVENT
BEGIN:VEVENT
DTSTART;TZID=Europe/Berlin:20260602T183000
DTEND;TZID=Europe/Berlin:20260602T193000
DTSTAMP:20260422T145811
CREATED:20260416T112757Z
LAST-MODIFIED:20260416T112757Z
UID:3769-1780425000-1780428600@foerderverein-stadtbibliothek-syke.de
SUMMARY:Monatstreffen Juni
DESCRIPTION:Was läuft im Förderverein? Rückblick\, Ausblicke\, Planung und Kulturtipps.
URL:https://foerderverein-stadtbibliothek-syke.de/termin/monatstreffen-juni/
LOCATION:Stadtbibliothek Syke\, Hinrich-Hanno-Platz 1\, Syke
CATEGORIES:Monatstreffen
ATTACH;FMTTYPE=image/jpeg:https://foerderverein-stadtbibliothek-syke.de/wp-content/uploads/2025/02/eingang_stadtbibliothek_quer.jpg
ORGANIZER;CN="Stadtbibliothek Syke":MAILTO:bibliothek@syke.de
END:VEVENT
END:VCALENDAR