BEGIN:VCALENDAR
VERSION:2.0
PRODID:-//Förderverein der Stadtbibliothek Syke e.V. - ECPv6.15.20//NONSGML v1.0//EN
CALSCALE:GREGORIAN
METHOD:PUBLISH
X-WR-CALNAME:Förderverein der Stadtbibliothek Syke e.V.
X-ORIGINAL-URL:https://foerderverein-stadtbibliothek-syke.de
X-WR-CALDESC:Veranstaltungen für Förderverein der Stadtbibliothek Syke e.V.
REFRESH-INTERVAL;VALUE=DURATION:PT1H
X-Robots-Tag:noindex
X-PUBLISHED-TTL:PT1H
BEGIN:VTIMEZONE
TZID:Europe/Berlin
BEGIN:DAYLIGHT
TZOFFSETFROM:+0100
TZOFFSETTO:+0200
TZNAME:CEST
DTSTART:20250330T010000
END:DAYLIGHT
BEGIN:STANDARD
TZOFFSETFROM:+0200
TZOFFSETTO:+0100
TZNAME:CET
DTSTART:20251026T010000
END:STANDARD
BEGIN:DAYLIGHT
TZOFFSETFROM:+0100
TZOFFSETTO:+0200
TZNAME:CEST
DTSTART:20260329T010000
END:DAYLIGHT
BEGIN:STANDARD
TZOFFSETFROM:+0200
TZOFFSETTO:+0100
TZNAME:CET
DTSTART:20261025T010000
END:STANDARD
BEGIN:DAYLIGHT
TZOFFSETFROM:+0100
TZOFFSETTO:+0200
TZNAME:CEST
DTSTART:20270328T010000
END:DAYLIGHT
BEGIN:STANDARD
TZOFFSETFROM:+0200
TZOFFSETTO:+0100
TZNAME:CET
DTSTART:20271031T010000
END:STANDARD
END:VTIMEZONE
BEGIN:VEVENT
DTSTART;TZID=Europe/Berlin:20260303T153000
DTEND;TZID=Europe/Berlin:20260303T163000
DTSTAMP:20260422T122047
CREATED:20260107T181959Z
LAST-MODIFIED:20260107T182630Z
UID:3501-1772551800-1772555400@foerderverein-stadtbibliothek-syke.de
SUMMARY:Bilderbuchkino
DESCRIPTION:Alexander Steffensmeier – „Ein Geburtstagsfest für Lieselotte“ und „Lieselotte hat Langeweile“ \n(Mit anschließendem Lieselotte Bastelspaß.) \n\nAnmeldung: Stadtbibliothek Syke \nTel.: 04242164235 \nE-Mail: Bibliothek@Syke.de \nWir freuen uns auf Euch.
URL:https://foerderverein-stadtbibliothek-syke.de/termin/bilderbuchkino-17/
LOCATION:Stadtbibliothek Syke\, Hinrich-Hanno-Platz 1\, Syke
CATEGORIES:Bilderbuchkino
ATTACH;FMTTYPE=image/jpeg:https://foerderverein-stadtbibliothek-syke.de/wp-content/uploads/2024/09/bilderbuchkino.jpg
ORGANIZER;CN="Stadtbibliothek Syke":MAILTO:bibliothek@syke.de
END:VEVENT
BEGIN:VEVENT
DTSTART;TZID=Europe/Berlin:20260303T183000
DTEND;TZID=Europe/Berlin:20260303T193000
DTSTAMP:20260422T122047
CREATED:20260107T191901Z
LAST-MODIFIED:20260107T191901Z
UID:3538-1772562600-1772566200@foerderverein-stadtbibliothek-syke.de
SUMMARY:Monatstreffen März
DESCRIPTION:Was läuft im Förderverein? Rückblick\, Ausblicke\, Planung und Kulturtipps.
URL:https://foerderverein-stadtbibliothek-syke.de/termin/monatstreffen-maerz/
LOCATION:Stadtbibliothek Syke\, Hinrich-Hanno-Platz 1\, Syke
CATEGORIES:Monatstreffen
ATTACH;FMTTYPE=image/jpeg:https://foerderverein-stadtbibliothek-syke.de/wp-content/uploads/2025/02/eingang_stadtbibliothek_quer.jpg
END:VEVENT
BEGIN:VEVENT
DTSTART;TZID=Europe/Berlin:20260306T193000
DTEND;TZID=Europe/Berlin:20260306T210000
DTSTAMP:20260422T122047
CREATED:20260107T183153Z
LAST-MODIFIED:20260107T183849Z
UID:3511-1772825400-1772830800@foerderverein-stadtbibliothek-syke.de
SUMMARY:Kabarettist und Poetry Slammer Adrian „Credo“ Scholz
DESCRIPTION:Kennen Sie das? Sie hören ein Lied und sofort werden Sie in eine andere Zeit\, an einen anderen Ort katapultiert. Ein bestimmter Geruch und Sie erinnern sich an einen bestimmten Menschen\, sehen ihn vor sich und erinnern sich. Emotionen machen uns zu dem was wir sind… jeden Tag. Mal gut\, mal schlecht\, aber es sind immer unsere. \n\nAnmeldung: Stadtbibliothek Syke \nTel.: 04242164235 \nE-Mail: Bibliothek@Syke.de \n\nBild: Copyright Adrian Scholz
URL:https://foerderverein-stadtbibliothek-syke.de/termin/kabarettist-und-poetry-slammer-adrian-credo-scholz/
LOCATION:Stadtbibliothek Syke\, Hinrich-Hanno-Platz 1\, Syke
ATTACH;FMTTYPE=image/jpeg:https://foerderverein-stadtbibliothek-syke.de/wp-content/uploads/2026/01/Adrian-Credo-Scholz.jpg
ORGANIZER;CN="Stadtbibliothek Syke":MAILTO:bibliothek@syke.de
END:VEVENT
BEGIN:VEVENT
DTSTART;TZID=Europe/Berlin:20260308T180000
DTEND;TZID=Europe/Berlin:20260308T200000
DTSTAMP:20260422T122047
CREATED:20260107T183801Z
LAST-MODIFIED:20260107T184524Z
UID:3515-1772992800-1773000000@foerderverein-stadtbibliothek-syke.de
SUMMARY:Autorenlesung Susanne Ackstaller
DESCRIPTION:Freuen Sie sich auf vergnügliche Stunden – mit Mode\, Musik und einer Brise Fernweh! Susanne Ackstaller entführt das Publikum mit launigen Texten und musikalischer Untermalung in ihren Kleiderschrank und verrät\, was guten Stil in jedem Alter ausmacht (und was Mut damit zu tun hat). \nBesonderes Highlight der Veranstaltung: eine Tauschparty mit gepflegten Accessoires! \n\nAnmeldung: Stadtbibliothek Syke \nTel.: 04242164235 \nE-Mail: Bibliothek@Syke.de \n\nBild: Copyright Susanne Ackstaller\, Foto: Martina Klein
URL:https://foerderverein-stadtbibliothek-syke.de/termin/autorenlesung-susanne-ackstaller/
LOCATION:Stadtbibliothek Syke\, Hinrich-Hanno-Platz 1\, Syke
CATEGORIES:Lesung
ATTACH;FMTTYPE=image/jpeg:https://foerderverein-stadtbibliothek-syke.de/wp-content/uploads/2026/01/Susanne-Ackstaller.jpg
ORGANIZER;CN="Stadtbibliothek Syke":MAILTO:bibliothek@syke.de
END:VEVENT
BEGIN:VEVENT
DTSTART;TZID=Europe/Berlin:20260313T193000
DTEND;TZID=Europe/Berlin:20260313T210000
DTSTAMP:20260422T122047
CREATED:20260107T184500Z
LAST-MODIFIED:20260107T184500Z
UID:3521-1773430200-1773435600@foerderverein-stadtbibliothek-syke.de
SUMMARY:„True Crime für daheim?“
DESCRIPTION:Reportagen\, Podcasts und Thriller zu echten Kriminalfällen faszinieren uns besonders. Woher diese Faszination kommt und was sie bewirkt\, stellt Dr. Dirk Schmidt-Herholz in seiner Präsentation vor. Als Wissenschaftler\, Fachdozent und Einsatztrainer war er fast 30 Jahre lang für verschiedene Polizei- und Sicherheitsbehörden tätig. Bei uns sorgt er nun für Informationen aus erster Hand und spannende Unterhaltung. \n\nAnmeldung: Stadtbibliothek Syke \nTel.: 04242164235 \nE-Mail: Bibliothek@Syke.de \n\nBild: Copyright Dr. Dirk Schmidt-Herholz\, Foto: Matthias Strohmeyer
URL:https://foerderverein-stadtbibliothek-syke.de/termin/true-crime-fuer-daheim/
LOCATION:Stadtbibliothek Syke\, Hinrich-Hanno-Platz 1\, Syke
CATEGORIES:Lesung
ATTACH;FMTTYPE=image/jpeg:https://foerderverein-stadtbibliothek-syke.de/wp-content/uploads/2026/01/Dr.-Dirk-Schmidt-Herholz.jpg
ORGANIZER;CN="Stadtbibliothek Syke":MAILTO:bibliothek@syke.de
END:VEVENT
BEGIN:VEVENT
DTSTART;TZID=Europe/Berlin:20260317T153000
DTEND;TZID=Europe/Berlin:20260317T170000
DTSTAMP:20260422T122047
CREATED:20260107T191715Z
LAST-MODIFIED:20260209T165357Z
UID:3536-1773761400-1773766800@foerderverein-stadtbibliothek-syke.de
SUMMARY:Lesecafé
DESCRIPTION:Mit Elke Heins und Monika Klück lesen „Ferdinand von Schirach“. \n\nBitte in der Stadtbibliothek Syke anmelden.
URL:https://foerderverein-stadtbibliothek-syke.de/termin/lesecafe-17/
LOCATION:Stadtbibliothek Syke\, Hinrich-Hanno-Platz 1\, Syke
CATEGORIES:Lesecafe
ATTACH;FMTTYPE=image/jpeg:https://foerderverein-stadtbibliothek-syke.de/wp-content/uploads/2025/02/eingang_stadtbibliothek_2.jpg
END:VEVENT
BEGIN:VEVENT
DTSTART;TZID=Europe/Berlin:20260319T190000
DTEND;TZID=Europe/Berlin:20260319T200000
DTSTAMP:20260422T122047
CREATED:20260315T135123Z
LAST-MODIFIED:20260315T135123Z
UID:3722-1773946800-1773950400@foerderverein-stadtbibliothek-syke.de
SUMMARY:Gemeinsam Lesen
DESCRIPTION:Ein Austausch über verschiedene Texte die gemeinsam gelesen werden. \nKomm’ dazu\, lies mit und lass’ Dich vom Text überraschen. \nMit Martina Kahsnitz. \n\nEine Anmeldung in der Stadtbibliothek ist erwünscht. Es sind aber immer Plätze frei für spät Entschlossene.
URL:https://foerderverein-stadtbibliothek-syke.de/termin/gemeinsam-lesen-20/
LOCATION:Stadtbibliothek Syke\, Hinrich-Hanno-Platz 1\, Syke
CATEGORIES:Gemeinsam Lesen
ATTACH;FMTTYPE=image/jpeg:https://foerderverein-stadtbibliothek-syke.de/wp-content/uploads/2025/02/eingang_stadtbibliothek_2.jpg
ORGANIZER;CN="Stadtbibliothek Syke":MAILTO:bibliothek@syke.de
END:VEVENT
END:VCALENDAR