BEGIN:VCALENDAR
VERSION:2.0
PRODID:-//Förderverein der Stadtbibliothek Syke e.V. - ECPv6.15.20//NONSGML v1.0//EN
CALSCALE:GREGORIAN
METHOD:PUBLISH
X-WR-CALNAME:Förderverein der Stadtbibliothek Syke e.V.
X-ORIGINAL-URL:https://foerderverein-stadtbibliothek-syke.de
X-WR-CALDESC:Veranstaltungen für Förderverein der Stadtbibliothek Syke e.V.
REFRESH-INTERVAL;VALUE=DURATION:PT1H
X-Robots-Tag:noindex
X-PUBLISHED-TTL:PT1H
BEGIN:VTIMEZONE
TZID:Europe/Berlin
BEGIN:DAYLIGHT
TZOFFSETFROM:+0100
TZOFFSETTO:+0200
TZNAME:CEST
DTSTART:20250330T010000
END:DAYLIGHT
BEGIN:STANDARD
TZOFFSETFROM:+0200
TZOFFSETTO:+0100
TZNAME:CET
DTSTART:20251026T010000
END:STANDARD
BEGIN:DAYLIGHT
TZOFFSETFROM:+0100
TZOFFSETTO:+0200
TZNAME:CEST
DTSTART:20260329T010000
END:DAYLIGHT
BEGIN:STANDARD
TZOFFSETFROM:+0200
TZOFFSETTO:+0100
TZNAME:CET
DTSTART:20261025T010000
END:STANDARD
BEGIN:DAYLIGHT
TZOFFSETFROM:+0100
TZOFFSETTO:+0200
TZNAME:CEST
DTSTART:20270328T010000
END:DAYLIGHT
BEGIN:STANDARD
TZOFFSETFROM:+0200
TZOFFSETTO:+0100
TZNAME:CET
DTSTART:20271031T010000
END:STANDARD
END:VTIMEZONE
BEGIN:VEVENT
DTSTART;TZID=Europe/Berlin:20260203T153000
DTEND;TZID=Europe/Berlin:20260203T163000
DTSTAMP:20260424T101827
CREATED:20260107T181551Z
LAST-MODIFIED:20260107T181551Z
UID:3499-1770132600-1770136200@foerderverein-stadtbibliothek-syke.de
SUMMARY:Bilderbuchkino
DESCRIPTION:Alexander Steffensmeier – „Lieselotte im Regen“ und von Anni Silvestra – „Der Waldbuchclub in der Schule“ \n\nAnmeldung: Stadtbibliothek Syke \nTel.: 04242164235 \nE-Mail: Bibliothek@Syke.de \nWir freuen uns auf Euch.
URL:https://foerderverein-stadtbibliothek-syke.de/termin/bilderbuchkino-16/
LOCATION:Stadtbibliothek Syke\, Hinrich-Hanno-Platz 1\, Syke
CATEGORIES:Bilderbuchkino
ATTACH;FMTTYPE=image/jpeg:https://foerderverein-stadtbibliothek-syke.de/wp-content/uploads/2024/09/katharina_wittneben.jpg
ORGANIZER;CN="Stadtbibliothek Syke":MAILTO:bibliothek@syke.de
END:VEVENT
BEGIN:VEVENT
DTSTART;TZID=Europe/Berlin:20260203T183000
DTEND;TZID=Europe/Berlin:20260203T193000
DTSTAMP:20260424T101828
CREATED:20251206T074330Z
LAST-MODIFIED:20251206T074330Z
UID:3444-1770143400-1770147000@foerderverein-stadtbibliothek-syke.de
SUMMARY:Monatstreffen Februar
DESCRIPTION:Was läuft im Förderverein? Rückblick\, Ausblicke\, Planung und Kulturtipps.
URL:https://foerderverein-stadtbibliothek-syke.de/termin/monatstreffen-februar/
LOCATION:Stadtbibliothek Syke\, Hinrich-Hanno-Platz 1\, Syke
CATEGORIES:Monatstreffen
ATTACH;FMTTYPE=image/jpeg:https://foerderverein-stadtbibliothek-syke.de/wp-content/uploads/2025/11/statdbibliothek_mit_y.jpg
END:VEVENT
BEGIN:VEVENT
DTSTART;TZID=Europe/Berlin:20260205T193000
DTEND;TZID=Europe/Berlin:20260205T210000
DTSTAMP:20260424T101828
CREATED:20251206T073737Z
LAST-MODIFIED:20251206T074435Z
UID:3438-1770319800-1770325200@foerderverein-stadtbibliothek-syke.de
SUMMARY:Kaschke & Hoferichter: Neue Frankfurter Schule
DESCRIPTION:Dr. Lars Kaschke und Ulrich Hoferichter lesen Texte der Neuen Frankfurter Schule\, es kommen deren Vorväter\, Väter\, Söhne und Enkel zu Wort – lassen Sie sich überraschen – humorvoll wird es auf jeden Fall. \n\nEintritt: 10 € (inkl. Getränk)\, 5 € ermäßigt für Schüler
URL:https://foerderverein-stadtbibliothek-syke.de/termin/kaschke-hoferichter-neue-frankfurter-schule/
LOCATION:Stadtbibliothek Syke\, Hinrich-Hanno-Platz 1\, Syke
CATEGORIES:Lesung
ATTACH;FMTTYPE=image/jpeg:https://foerderverein-stadtbibliothek-syke.de/wp-content/uploads/2024/09/kaschke_und_hoferichter.jpg
END:VEVENT
BEGIN:VEVENT
DTSTART;TZID=Europe/Berlin:20260212T193000
DTEND;TZID=Europe/Berlin:20260212T210000
DTSTAMP:20260424T101828
CREATED:20250909T062121Z
LAST-MODIFIED:20260209T165112Z
UID:3241-1770924600-1770930000@foerderverein-stadtbibliothek-syke.de
SUMMARY:Wilder Honig - Songs und Texte von dem Schriftsteller und Maler Fritz Grasshoff
DESCRIPTION:Unter dem Titel „Lästerlieder und Pintenballaden“ präsentiert „Wilder Honig“ Spelunkensongs\, Whiskykanzonen\, Pinten- und Ritterballaden\, Lieder und liederliches\, Reime und ungereimtes\, Boden- und unanständiges aus der Feder des Schriftstellers und Malers Fritz Grasshoff. \n\nEintritt: 10 € (inkl. Getränk)
URL:https://foerderverein-stadtbibliothek-syke.de/termin/wilder-honig-songs-und-texte-von-dem-schriftsteller-und-maler-fritz-grasshoff/
LOCATION:Stadtbibliothek Syke\, Hinrich-Hanno-Platz 1\, Syke
CATEGORIES:Lesung
ATTACH;FMTTYPE=image/jpeg:https://foerderverein-stadtbibliothek-syke.de/wp-content/uploads/2025/09/WilderHonig.jpg
ORGANIZER;CN="Stadtbibliothek Syke":MAILTO:bibliothek@syke.de
END:VEVENT
BEGIN:VEVENT
DTSTART;TZID=Europe/Berlin:20260217T153000
DTEND;TZID=Europe/Berlin:20260217T170000
DTSTAMP:20260424T101828
CREATED:20260106T211350Z
LAST-MODIFIED:20260106T212221Z
UID:3488-1771342200-1771347600@foerderverein-stadtbibliothek-syke.de
SUMMARY:Lesecafé
DESCRIPTION:Doris Fröleke und Martina Kahsnitz lesen aus der Biografie von Mascha Kaleko von Volker Weidemann. \n\nDieses Lesecafé musste Januar ausfallen und findet daher im Februar statt. \nBitte in der Stadtbibliothek Syke anmelden.
URL:https://foerderverein-stadtbibliothek-syke.de/termin/lesecafe-16/
LOCATION:Stadtbibliothek Syke\, Hinrich-Hanno-Platz 1\, Syke
CATEGORIES:Lesecafe
ATTACH;FMTTYPE=image/jpeg:https://foerderverein-stadtbibliothek-syke.de/wp-content/uploads/2024/04/IMG_20240408_180416.jpg
END:VEVENT
BEGIN:VEVENT
DTSTART;TZID=Europe/Berlin:20260218T200000
DTEND;TZID=Europe/Berlin:20260218T220000
DTSTAMP:20260424T101828
CREATED:20250909T061806Z
LAST-MODIFIED:20250909T061806Z
UID:3239-1771444800-1771452000@foerderverein-stadtbibliothek-syke.de
SUMMARY:Förderverein goes Cinema: Medicus (Fortsetzung)
DESCRIPTION:Mit der Verfilmung des historischen Bestsellers feierte der „Der Medicus“ 2013 große Erfolge. Nun folgt die Fortsetzung der Geschichte um den jungen Mediziner Rob Cole\, gespielt von Tom Payne. \n\nBei “Förderverein goes Cinema” werden im Hansa Kino Syke Filme in Absprache mit dem Förderverein gezeigt. Jeder ist herzlich eingeladen!
URL:https://foerderverein-stadtbibliothek-syke.de/termin/foerderverein-goes-cinema-medicus-fortsetzung/
LOCATION:Hansa Kino Syke\, Herrlichkeit 3\, Syke
CATEGORIES:Förderverein goes Cinema
ATTACH;FMTTYPE=image/jpeg:https://foerderverein-stadtbibliothek-syke.de/wp-content/uploads/2024/11/hansa_kino_syke1.jpg
END:VEVENT
BEGIN:VEVENT
DTSTART;TZID=Europe/Berlin:20260219T190000
DTEND;TZID=Europe/Berlin:20260219T200000
DTSTAMP:20260424T101828
CREATED:20260206T071143Z
LAST-MODIFIED:20260206T071143Z
UID:3577-1771527600-1771531200@foerderverein-stadtbibliothek-syke.de
SUMMARY:Gemeinsam Lesen
DESCRIPTION:Ein Austausch über verschiedene Texte die gemeinsam gelesen werden. \nKomm’ dazu\, lies mit und lass’ Dich vom Text überraschen. \nMit Martina Kahsnitz. \n\nEine Anmeldung in der Stadtbibliothek ist erwünscht. Es sind aber immer Plätze frei für spät Entschlossene.
URL:https://foerderverein-stadtbibliothek-syke.de/termin/gemeinsam-lesen-19/
LOCATION:Stadtbibliothek Syke\, Hinrich-Hanno-Platz 1\, Syke
CATEGORIES:Gemeinsam Lesen
ATTACH;FMTTYPE=image/jpeg:https://foerderverein-stadtbibliothek-syke.de/wp-content/uploads/2025/02/eingang_stadtbibliothek_1.jpg
END:VEVENT
END:VCALENDAR