BEGIN:VCALENDAR
VERSION:2.0
PRODID:-//Förderverein der Stadtbibliothek Syke e.V. - ECPv6.15.20//NONSGML v1.0//EN
CALSCALE:GREGORIAN
METHOD:PUBLISH
X-ORIGINAL-URL:https://foerderverein-stadtbibliothek-syke.de
X-WR-CALDESC:Veranstaltungen für Förderverein der Stadtbibliothek Syke e.V.
REFRESH-INTERVAL;VALUE=DURATION:PT1H
X-Robots-Tag:noindex
X-PUBLISHED-TTL:PT1H
BEGIN:VTIMEZONE
TZID:Europe/Berlin
BEGIN:DAYLIGHT
TZOFFSETFROM:+0100
TZOFFSETTO:+0200
TZNAME:CEST
DTSTART:20240331T010000
END:DAYLIGHT
BEGIN:STANDARD
TZOFFSETFROM:+0200
TZOFFSETTO:+0100
TZNAME:CET
DTSTART:20241027T010000
END:STANDARD
BEGIN:DAYLIGHT
TZOFFSETFROM:+0100
TZOFFSETTO:+0200
TZNAME:CEST
DTSTART:20250330T010000
END:DAYLIGHT
BEGIN:STANDARD
TZOFFSETFROM:+0200
TZOFFSETTO:+0100
TZNAME:CET
DTSTART:20251026T010000
END:STANDARD
BEGIN:DAYLIGHT
TZOFFSETFROM:+0100
TZOFFSETTO:+0200
TZNAME:CEST
DTSTART:20260329T010000
END:DAYLIGHT
BEGIN:STANDARD
TZOFFSETFROM:+0200
TZOFFSETTO:+0100
TZNAME:CET
DTSTART:20261025T010000
END:STANDARD
END:VTIMEZONE
BEGIN:VEVENT
DTSTART;TZID=Europe/Berlin:20251202T153000
DTEND;TZID=Europe/Berlin:20251202T163000
DTSTAMP:20260424T134055
CREATED:20250823T073448Z
LAST-MODIFIED:20250909T062525Z
UID:3183-1764689400-1764693000@foerderverein-stadtbibliothek-syke.de
SUMMARY:Bilderbuchkino
DESCRIPTION:Britta Schwarz – „Morgen\, Biber\, wird´s was geben!“ und von Jane Chapman – „Ein Weihnachtsfest im Schnee“ \n\nAnmeldung: Stadtbibliothek Syke \nTel.: 04242164235 \nE-Mail: Bibliothek@Syke.de \nWir freuen uns auf Euch.
URL:https://foerderverein-stadtbibliothek-syke.de/termin/bilderbuchkino-15/
LOCATION:Stadtbibliothek Syke\, Hinrich-Hanno-Platz 1\, Syke
CATEGORIES:Bilderbuchkino
ATTACH;FMTTYPE=image/jpeg:https://foerderverein-stadtbibliothek-syke.de/wp-content/uploads/2024/09/bilderbuchkino.jpg
ORGANIZER;CN="Stadtbibliothek Syke":MAILTO:bibliothek@syke.de
END:VEVENT
BEGIN:VEVENT
DTSTART;TZID=Europe/Berlin:20251202T183000
DTEND;TZID=Europe/Berlin:20251202T193000
DTSTAMP:20260424T134055
CREATED:20251008T071629Z
LAST-MODIFIED:20251008T071629Z
UID:3305-1764700200-1764703800@foerderverein-stadtbibliothek-syke.de
SUMMARY:Monatstreffen Dezember
DESCRIPTION:Was läuft im Förderverein? Rückblick\, Ausblicke\, Planung und Kulturtipps.
URL:https://foerderverein-stadtbibliothek-syke.de/termin/monatstreffen-dezember/
LOCATION:Stadtbibliothek Syke\, Hinrich-Hanno-Platz 1\, Syke
CATEGORIES:Monatstreffen
ATTACH;FMTTYPE=image/jpeg:https://foerderverein-stadtbibliothek-syke.de/wp-content/uploads/2025/02/eingang_stadtbibliothek_2.jpg
END:VEVENT
BEGIN:VEVENT
DTSTART;TZID=Europe/Berlin:20251216T153000
DTEND;TZID=Europe/Berlin:20251216T170000
DTSTAMP:20260424T134055
CREATED:20251111T190129Z
LAST-MODIFIED:20251111T190129Z
UID:3379-1765899000-1765904400@foerderverein-stadtbibliothek-syke.de
SUMMARY:Lesecafé
DESCRIPTION:„Weihnachtliches Lesen“ bei Kaffee und Keksen mit Kerstin Nowak\, Katharina Wittneben und Monika Klück.\n\nIm Anschluss singt der Yu-Chor unter der Leitung von Yuko Nakamura.\n\n\n\nBitte in der Stadtbibliothek Syke anmelden.
URL:https://foerderverein-stadtbibliothek-syke.de/termin/lesecafe-14/
LOCATION:Stadtbibliothek Syke\, Hinrich-Hanno-Platz 1\, Syke
CATEGORIES:Lesecafe
ATTACH;FMTTYPE=image/jpeg:https://foerderverein-stadtbibliothek-syke.de/wp-content/uploads/2024/04/IMG_20240408_180416.jpg
END:VEVENT
BEGIN:VEVENT
DTSTART;TZID=Europe/Berlin:20251218T190000
DTEND;TZID=Europe/Berlin:20251218T200000
DTSTAMP:20260424T134055
CREATED:20251111T190322Z
LAST-MODIFIED:20251111T190322Z
UID:3381-1766084400-1766088000@foerderverein-stadtbibliothek-syke.de
SUMMARY:Gemeinsam Lesen
DESCRIPTION:Ein Austausch über verschiedene Texte die gemeinsam gelesen werden. \nKomm’ dazu\, lies mit und lass’ Dich vom Text überraschen. \nMit Martina Kahsnitz. \n\nEine Anmeldung in der Stadtbibliothek ist erwünscht. Es sind aber immer Plätze frei für spät Entschlossene.
URL:https://foerderverein-stadtbibliothek-syke.de/termin/gemeinsam-lesen-17/
LOCATION:Stadtbibliothek Syke\, Hinrich-Hanno-Platz 1\, Syke
CATEGORIES:Gemeinsam Lesen
ATTACH;FMTTYPE=image/jpeg:https://foerderverein-stadtbibliothek-syke.de/wp-content/uploads/2025/02/eingang_stadtbibliothek_quer.jpg
END:VEVENT
END:VCALENDAR