BEGIN:VCALENDAR
VERSION:2.0
PRODID:-//Förderverein der Stadtbibliothek Syke e.V. - ECPv6.15.20//NONSGML v1.0//EN
CALSCALE:GREGORIAN
METHOD:PUBLISH
X-WR-CALNAME:Förderverein der Stadtbibliothek Syke e.V.
X-ORIGINAL-URL:https://foerderverein-stadtbibliothek-syke.de
X-WR-CALDESC:Veranstaltungen für Förderverein der Stadtbibliothek Syke e.V.
REFRESH-INTERVAL;VALUE=DURATION:PT1H
X-Robots-Tag:noindex
X-PUBLISHED-TTL:PT1H
BEGIN:VTIMEZONE
TZID:Europe/Berlin
BEGIN:DAYLIGHT
TZOFFSETFROM:+0100
TZOFFSETTO:+0200
TZNAME:CEST
DTSTART:20240331T010000
END:DAYLIGHT
BEGIN:STANDARD
TZOFFSETFROM:+0200
TZOFFSETTO:+0100
TZNAME:CET
DTSTART:20241027T010000
END:STANDARD
BEGIN:DAYLIGHT
TZOFFSETFROM:+0100
TZOFFSETTO:+0200
TZNAME:CEST
DTSTART:20250330T010000
END:DAYLIGHT
BEGIN:STANDARD
TZOFFSETFROM:+0200
TZOFFSETTO:+0100
TZNAME:CET
DTSTART:20251026T010000
END:STANDARD
BEGIN:DAYLIGHT
TZOFFSETFROM:+0100
TZOFFSETTO:+0200
TZNAME:CEST
DTSTART:20260329T010000
END:DAYLIGHT
BEGIN:STANDARD
TZOFFSETFROM:+0200
TZOFFSETTO:+0100
TZNAME:CET
DTSTART:20261025T010000
END:STANDARD
END:VTIMEZONE
BEGIN:VEVENT
DTSTART;TZID=Europe/Berlin:20250506T153000
DTEND;TZID=Europe/Berlin:20250506T163000
DTSTAMP:20260425T013244
CREATED:20250214T183405Z
LAST-MODIFIED:20250214T183405Z
UID:2837-1746545400-1746549000@foerderverein-stadtbibliothek-syke.de
SUMMARY:Bilderbuchkino
DESCRIPTION:Betina Gotzen-Beek – „Theo Tonnentier und die beste Geburtstagstorte der Welt“ und von Monique Berndes – „Es gibt ein Fest“
URL:https://foerderverein-stadtbibliothek-syke.de/termin/bilderbuchkino-8/
LOCATION:Stadtbibliothek Syke\, Hinrich-Hanno-Platz 1\, Syke
CATEGORIES:Bilderbuchkino
ATTACH;FMTTYPE=image/jpeg:https://foerderverein-stadtbibliothek-syke.de/wp-content/uploads/2024/09/katharina_wittneben.jpg
END:VEVENT
BEGIN:VEVENT
DTSTART;TZID=Europe/Berlin:20250506T183000
DTEND;TZID=Europe/Berlin:20250506T193000
DTSTAMP:20260425T013244
CREATED:20250504T115123Z
LAST-MODIFIED:20250504T115123Z
UID:2960-1746556200-1746559800@foerderverein-stadtbibliothek-syke.de
SUMMARY:Monatssitzung Mai
DESCRIPTION:Was läuft im Förderverein? Rückblick\, Ausblicke\, Planung und Kulturtipps.
URL:https://foerderverein-stadtbibliothek-syke.de/termin/monatssitzung-mai/
LOCATION:Stadtbibliothek Syke\, Hinrich-Hanno-Platz 1\, Syke
CATEGORIES:Monatstreffen
ATTACH;FMTTYPE=image/jpeg:https://foerderverein-stadtbibliothek-syke.de/wp-content/uploads/2025/02/eingang_stadtbibliothek_quer.jpg
END:VEVENT
BEGIN:VEVENT
DTSTART;TZID=Europe/Berlin:20250507T193000
DTEND;TZID=Europe/Berlin:20250507T210000
DTSTAMP:20260425T013244
CREATED:20250308T080254Z
LAST-MODIFIED:20250308T080254Z
UID:2891-1746646200-1746651600@foerderverein-stadtbibliothek-syke.de
SUMMARY:Lesung – Kästner & Kästner
DESCRIPTION:Das Autorenpaar Kästner & Kästner liest aus ihrem aktuellen Krimi “Tod im Schatten der Elbflut“. \n\nEintritt: 12 €
URL:https://foerderverein-stadtbibliothek-syke.de/termin/lesung-kaestner-kaestner/
LOCATION:Stadtbibliothek Syke\, Hinrich-Hanno-Platz 1\, Syke
CATEGORIES:Lesung
ATTACH;FMTTYPE=image/jpeg:https://foerderverein-stadtbibliothek-syke.de/wp-content/uploads/2025/03/Krimi_Lesung_Kaestner_Kaestner.jpg
ORGANIZER;CN="Stadtbibliothek Syke":MAILTO:bibliothek@syke.de
END:VEVENT
BEGIN:VEVENT
DTSTART;TZID=Europe/Berlin:20250510T100000
DTEND;TZID=Europe/Berlin:20250510T130000
DTSTAMP:20260425T013244
CREATED:20250116T184324Z
LAST-MODIFIED:20250509T162951Z
UID:2742-1746871200-1746882000@foerderverein-stadtbibliothek-syke.de
SUMMARY:Gratis Comic Tag 2025
DESCRIPTION:Eine kunterbunte Bandbreite der Comic-Welt wartet an diesem 2. Mai-Sonnabend wieder auf zig-tausende kleine und große Comic-Fans. Ob Wissens-Comics\, Helden-Abenteuer\, Coming of Age\, frankobelgische Klassiker … auch 2025 präsentiert der Gratis Comic Tag wieder die bunte Vielfalt der Comic-Welt. Die Verlage Carlsen\, Cross Cult\, Edition Helden\, Egmont\, Kibitz\, Loewe Verlag\, Panini\, Reprodukt\, Splitter und Ueberreuter Verlag steuern 22 verschiedene „Kids & Teens“ – Comics bei\, die dann kostenfrei an junge und junggebliebene Comic-Fans ausgegeben werden. \n(Nur solange der Vorrat reicht) \nAuch die Ausleihe ist an diesem Tag möglich.
URL:https://foerderverein-stadtbibliothek-syke.de/termin/gratis-comic-tag-2025/
LOCATION:Stadtbibliothek Syke\, Hinrich-Hanno-Platz 1\, Syke
ATTACH;FMTTYPE=image/png:https://foerderverein-stadtbibliothek-syke.de/wp-content/uploads/2025/01/gratis-comic-tag-2025.png
ORGANIZER;CN="Stadtbibliothek Syke":MAILTO:bibliothek@syke.de
END:VEVENT
BEGIN:VEVENT
DTSTART;TZID=Europe/Berlin:20250515T190000
DTEND;TZID=Europe/Berlin:20250515T200000
DTSTAMP:20260425T013244
CREATED:20250506T201931Z
LAST-MODIFIED:20250506T201931Z
UID:2972-1747335600-1747339200@foerderverein-stadtbibliothek-syke.de
SUMMARY:Gemeinsam Lesen
DESCRIPTION:Ein Austausch über verschiedene Texte die gemeinsam gelesen werden. \nKomm’ dazu\, lies mit und lass’ Dich vom Text überraschen. \nMit Martina Kahsnitz. \n\nEine Anmeldung in der Stadtbibliothek ist erwünscht. Es sind aber immer Plätze frei für spät Entschlossene.
URL:https://foerderverein-stadtbibliothek-syke.de/termin/gemeinsam-lesen-10/
LOCATION:Stadtbibliothek Syke\, Hinrich-Hanno-Platz 1\, Syke
CATEGORIES:Gemeinsam Lesen
ATTACH;FMTTYPE=image/jpeg:https://foerderverein-stadtbibliothek-syke.de/wp-content/uploads/2025/02/eingang_stadtbibliothek_quer.jpg
ORGANIZER;CN="Stadtbibliothek Syke":MAILTO:bibliothek@syke.de
END:VEVENT
BEGIN:VEVENT
DTSTART;TZID=Europe/Berlin:20250520T153000
DTEND;TZID=Europe/Berlin:20250520T163000
DTSTAMP:20260425T013244
CREATED:20250207T142745Z
LAST-MODIFIED:20250509T162859Z
UID:2816-1747755000-1747758600@foerderverein-stadtbibliothek-syke.de
SUMMARY:Lesecafé
DESCRIPTION:…bei Kaffee und Keksen lesen Kerstin Nowak und Wolfgang Hunze „Der Markisenmann“ von Jan Weiler. \n\nBitte in der Stadtbibliothek Syke anmelden.
URL:https://foerderverein-stadtbibliothek-syke.de/termin/lesecafe-8/
LOCATION:Stadtbibliothek Syke\, Hinrich-Hanno-Platz 1\, Syke
CATEGORIES:Lesecafe
ATTACH;FMTTYPE=image/jpeg:https://foerderverein-stadtbibliothek-syke.de/wp-content/uploads/2021/11/MK071243-3zu1-PF1-scaled-1.jpg
END:VEVENT
END:VCALENDAR