BEGIN:VCALENDAR
VERSION:2.0
PRODID:-//Förderverein der Stadtbibliothek Syke e.V. - ECPv6.15.20//NONSGML v1.0//EN
CALSCALE:GREGORIAN
METHOD:PUBLISH
X-ORIGINAL-URL:https://foerderverein-stadtbibliothek-syke.de
X-WR-CALDESC:Veranstaltungen für Förderverein der Stadtbibliothek Syke e.V.
REFRESH-INTERVAL;VALUE=DURATION:PT1H
X-Robots-Tag:noindex
X-PUBLISHED-TTL:PT1H
BEGIN:VTIMEZONE
TZID:Europe/Berlin
BEGIN:DAYLIGHT
TZOFFSETFROM:+0100
TZOFFSETTO:+0200
TZNAME:CEST
DTSTART:20240331T010000
END:DAYLIGHT
BEGIN:STANDARD
TZOFFSETFROM:+0200
TZOFFSETTO:+0100
TZNAME:CET
DTSTART:20241027T010000
END:STANDARD
BEGIN:DAYLIGHT
TZOFFSETFROM:+0100
TZOFFSETTO:+0200
TZNAME:CEST
DTSTART:20250330T010000
END:DAYLIGHT
BEGIN:STANDARD
TZOFFSETFROM:+0200
TZOFFSETTO:+0100
TZNAME:CET
DTSTART:20251026T010000
END:STANDARD
BEGIN:DAYLIGHT
TZOFFSETFROM:+0100
TZOFFSETTO:+0200
TZNAME:CEST
DTSTART:20260329T010000
END:DAYLIGHT
BEGIN:STANDARD
TZOFFSETFROM:+0200
TZOFFSETTO:+0100
TZNAME:CET
DTSTART:20261025T010000
END:STANDARD
END:VTIMEZONE
BEGIN:VEVENT
DTSTART;TZID=Europe/Berlin:20250304T153000
DTEND;TZID=Europe/Berlin:20250304T163000
DTSTAMP:20260425T043413
CREATED:20250214T184422Z
LAST-MODIFIED:20250214T184422Z
UID:2845-1741102200-1741105800@foerderverein-stadtbibliothek-syke.de
SUMMARY:Monsieur Momo
DESCRIPTION:Eine Show voller Zauberei für die ganze Familie. \nAb 4 Jahre
URL:https://foerderverein-stadtbibliothek-syke.de/termin/monsieur-momo-2/
LOCATION:Stadtbibliothek Syke\, Hinrich-Hanno-Platz 1\, Syke
ATTACH;FMTTYPE=image/jpeg:https://foerderverein-stadtbibliothek-syke.de/wp-content/uploads/2025/02/monsieur_momo_2025.jpg
ORGANIZER;CN="Stadtbibliothek Syke":MAILTO:bibliothek@syke.de
END:VEVENT
BEGIN:VEVENT
DTSTART;TZID=Europe/Berlin:20250304T183000
DTEND;TZID=Europe/Berlin:20250304T183000
DTSTAMP:20260425T043413
CREATED:20250116T182108Z
LAST-MODIFIED:20250207T142926Z
UID:2733-1741113000-1741113000@foerderverein-stadtbibliothek-syke.de
SUMMARY:Monatssitzung März
DESCRIPTION:Was läuft im Förderverein? Rückblick\, Ausblicke\, Planung und Kulturtipps.
URL:https://foerderverein-stadtbibliothek-syke.de/termin/monatssitzung-maerz/
LOCATION:Stadtbibliothek Syke\, Hinrich-Hanno-Platz 1\, Syke
CATEGORIES:Monatstreffen
END:VEVENT
BEGIN:VEVENT
DTSTART;TZID=Europe/Berlin:20250311T193000
DTEND;TZID=Europe/Berlin:20250311T203000
DTSTAMP:20260425T043413
CREATED:20250116T180046Z
LAST-MODIFIED:20250310T181614Z
UID:2730-1741721400-1741725000@foerderverein-stadtbibliothek-syke.de
SUMMARY:Lesung – „Poesie im Milchwald“
DESCRIPTION:Der walisische Dichter\, Schriftsteller\, Rundfunkautor\, Pazifist und Trinker wäre in diesem Jahr 110 Jahre alt geworden – wäre\, denn er starb bereits mit 34 Jahren. \n1919 in Swansea geboren war er schon als junger Mann ein Star. „Unter dem Milchwald“ bleibt vielleicht sein bekanntestes Werk. \nDas „Spiel für Stimmen“ zeichnet ein Porträt einer Kleinstadt\, das mit all den spießigen Träumen und Sehnsüchten seiner schrulligen Bewohner alle Sprachverliebten in seinen Bann zieht: \n„Anfangen\, wo es anfängt: Es ist Frühling\, mondlose Nacht in der kleinen Stadt\, sternlos und bibelschwarz\, die Kopfpflasterstraßen still\, und der geduckte Liebespärchen- und Kaninchenwald humpelt unsichtbar hinab zur schlehenschwarzen\, zähen\, krähenschwarzen fischerbootschaukelnden See…“ \nDer von Christian Bergmann und Axel Stiehler zusammengestellte Abend überrascht und unterhält mit unbekannten Texten zum schmunzeln\, mitdenken und „mitschlingern“ durch die Bilderwelten des Dylan Thomas. \nEs lesen:\nChristian Bergmann\, freischaffender Regisseur\, Theater- und Filmschauspieler aus Bremen\nJürgen Puls\, Schauspieler und Sprecher aus Syke. \nEintritt: 8 € (inkl. Getränke)
URL:https://foerderverein-stadtbibliothek-syke.de/termin/lesung-poesie-im-milchwald/
LOCATION:Stadtbibliothek Syke\, Hinrich-Hanno-Platz 1\, Syke
CATEGORIES:Lesung
ATTACH;FMTTYPE=image/jpeg:https://foerderverein-stadtbibliothek-syke.de/wp-content/uploads/2025/01/Dylan_Thomas_photo.jpg
END:VEVENT
BEGIN:VEVENT
DTSTART;TZID=Europe/Berlin:20250318T153000
DTEND;TZID=Europe/Berlin:20250318T163000
DTSTAMP:20260425T043413
CREATED:20250207T142459Z
LAST-MODIFIED:20250304T193539Z
UID:2812-1742311800-1742315400@foerderverein-stadtbibliothek-syke.de
SUMMARY:Lesecafé - fällt aus!
DESCRIPTION:Leider muss das Lesecafé an diesem Termin ausfallen! \n  \n…bei Kaffee und Keksen lesen Monika Klück und Katharina Wittneben. \n\nBitte in der Stadtbibliothek Syke anmelden.
URL:https://foerderverein-stadtbibliothek-syke.de/termin/lesecafe-7/
LOCATION:Stadtbibliothek Syke\, Hinrich-Hanno-Platz 1\, Syke
CATEGORIES:Lesecafe
ATTACH;FMTTYPE=image/png:https://foerderverein-stadtbibliothek-syke.de/wp-content/uploads/2025/03/faellt-aus.png
END:VEVENT
BEGIN:VEVENT
DTSTART;TZID=Europe/Berlin:20250319T200000
DTEND;TZID=Europe/Berlin:20250319T220000
DTSTAMP:20260425T043413
CREATED:20241106T192022Z
LAST-MODIFIED:20241106T192514Z
UID:2588-1742414400-1742421600@foerderverein-stadtbibliothek-syke.de
SUMMARY:Förderverein goes Cinema: In Liebe\, Eure Hilde
DESCRIPTION:In Liebe\, Eure Hilde ist ein deutscher Spielfilm von Andreas Dresen aus dem Jahr 2024. Es handelt sich um eine Filmbiografie über Hilde Coppi\, die mit ihrem Ehemann Hans der Widerstandsgruppe Rote Kapelle angehörte. \n\nBei “Förderverein goes Cinema” werden im Hansa Kino Syke Filme in Absprache mit dem Förderverein gezeigt. Jeder ist herzlich eingeladen!
URL:https://foerderverein-stadtbibliothek-syke.de/termin/foerderverein-goes-cinema-in-liebe-eure-hilde/
LOCATION:Hansa Kino Syke\, Herrlichkeit 3\, Syke
CATEGORIES:Förderverein goes Cinema
ATTACH;FMTTYPE=image/jpeg:https://foerderverein-stadtbibliothek-syke.de/wp-content/uploads/2024/11/hansa_kino_syke2.jpg
END:VEVENT
BEGIN:VEVENT
DTSTART;TZID=Europe/Berlin:20250320T190000
DTEND;TZID=Europe/Berlin:20250320T200000
DTSTAMP:20260425T043413
CREATED:20250304T192218Z
LAST-MODIFIED:20250304T192218Z
UID:2878-1742497200-1742500800@foerderverein-stadtbibliothek-syke.de
SUMMARY:Gemeinsam Lesen
DESCRIPTION:Ein Austausch über verschiedene Texte die gemeinsam gelesen werden. \nKomm’ dazu\, lies mit und lass’ Dich vom Text überraschen. \nMit Martina Kahsnitz. \n\nEine Anmeldung in der Stadtbibliothek ist erwünscht. Es sind aber immer Plätze frei für spät Entschlossene.
URL:https://foerderverein-stadtbibliothek-syke.de/termin/gemeinsam-lesen-9/
LOCATION:Stadtbibliothek Syke\, Hinrich-Hanno-Platz 1\, Syke
CATEGORIES:Gemeinsam Lesen
ATTACH;FMTTYPE=image/jpeg:https://foerderverein-stadtbibliothek-syke.de/wp-content/uploads/2025/02/eingang_stadtbibliothek_quer.jpg
END:VEVENT
END:VCALENDAR