BEGIN:VCALENDAR
VERSION:2.0
PRODID:-//Förderverein der Stadtbibliothek Syke e.V. - ECPv6.15.20//NONSGML v1.0//EN
CALSCALE:GREGORIAN
METHOD:PUBLISH
X-WR-CALNAME:Förderverein der Stadtbibliothek Syke e.V.
X-ORIGINAL-URL:https://foerderverein-stadtbibliothek-syke.de
X-WR-CALDESC:Veranstaltungen für Förderverein der Stadtbibliothek Syke e.V.
REFRESH-INTERVAL;VALUE=DURATION:PT1H
X-Robots-Tag:noindex
X-PUBLISHED-TTL:PT1H
BEGIN:VTIMEZONE
TZID:Europe/Berlin
BEGIN:DAYLIGHT
TZOFFSETFROM:+0100
TZOFFSETTO:+0200
TZNAME:CEST
DTSTART:20230326T010000
END:DAYLIGHT
BEGIN:STANDARD
TZOFFSETFROM:+0200
TZOFFSETTO:+0100
TZNAME:CET
DTSTART:20231029T010000
END:STANDARD
BEGIN:DAYLIGHT
TZOFFSETFROM:+0100
TZOFFSETTO:+0200
TZNAME:CEST
DTSTART:20240331T010000
END:DAYLIGHT
BEGIN:STANDARD
TZOFFSETFROM:+0200
TZOFFSETTO:+0100
TZNAME:CET
DTSTART:20241027T010000
END:STANDARD
BEGIN:DAYLIGHT
TZOFFSETFROM:+0100
TZOFFSETTO:+0200
TZNAME:CEST
DTSTART:20250330T010000
END:DAYLIGHT
BEGIN:STANDARD
TZOFFSETFROM:+0200
TZOFFSETTO:+0100
TZNAME:CET
DTSTART:20251026T010000
END:STANDARD
END:VTIMEZONE
BEGIN:VEVENT
DTSTART;TZID=Europe/Berlin:20240702T183000
DTEND;TZID=Europe/Berlin:20240702T183000
DTSTAMP:20260425T173143
CREATED:20240628T132035Z
LAST-MODIFIED:20240628T132236Z
UID:2333-1719945000-1719945000@foerderverein-stadtbibliothek-syke.de
SUMMARY:Monatssitzung Juli
DESCRIPTION:
URL:https://foerderverein-stadtbibliothek-syke.de/termin/monatssitzung-juli/
LOCATION:Stadtbibliothek Syke\, Hinrich-Hanno-Platz 1\, Syke
END:VEVENT
BEGIN:VEVENT
DTSTART;TZID=Europe/Berlin:20240718T190000
DTEND;TZID=Europe/Berlin:20240718T200000
DTSTAMP:20260425T173143
CREATED:20240712T121956Z
LAST-MODIFIED:20240712T121956Z
UID:2375-1721329200-1721332800@foerderverein-stadtbibliothek-syke.de
SUMMARY:Gemeinsam Lesen
DESCRIPTION:
URL:https://foerderverein-stadtbibliothek-syke.de/termin/gemeinsam-lesen-5/
LOCATION:Stadtbibliothek Syke\, Hinrich-Hanno-Platz 1\, Syke
END:VEVENT
END:VCALENDAR