BEGIN:VCALENDAR
VERSION:2.0
PRODID:-//Förderverein der Stadtbibliothek Syke e.V. - ECPv6.15.20//NONSGML v1.0//EN
CALSCALE:GREGORIAN
METHOD:PUBLISH
X-ORIGINAL-URL:https://foerderverein-stadtbibliothek-syke.de
X-WR-CALDESC:Veranstaltungen für Förderverein der Stadtbibliothek Syke e.V.
REFRESH-INTERVAL;VALUE=DURATION:PT1H
X-Robots-Tag:noindex
X-PUBLISHED-TTL:PT1H
BEGIN:VTIMEZONE
TZID:Europe/Paris
BEGIN:DAYLIGHT
TZOFFSETFROM:+0100
TZOFFSETTO:+0200
TZNAME:CEST
DTSTART:20230326T010000
END:DAYLIGHT
BEGIN:STANDARD
TZOFFSETFROM:+0200
TZOFFSETTO:+0100
TZNAME:CET
DTSTART:20231029T010000
END:STANDARD
BEGIN:DAYLIGHT
TZOFFSETFROM:+0100
TZOFFSETTO:+0200
TZNAME:CEST
DTSTART:20240331T010000
END:DAYLIGHT
BEGIN:STANDARD
TZOFFSETFROM:+0200
TZOFFSETTO:+0100
TZNAME:CET
DTSTART:20241027T010000
END:STANDARD
BEGIN:DAYLIGHT
TZOFFSETFROM:+0100
TZOFFSETTO:+0200
TZNAME:CEST
DTSTART:20250330T010000
END:DAYLIGHT
BEGIN:STANDARD
TZOFFSETFROM:+0200
TZOFFSETTO:+0100
TZNAME:CET
DTSTART:20251026T010000
END:STANDARD
END:VTIMEZONE
BEGIN:VTIMEZONE
TZID:Europe/Berlin
BEGIN:DAYLIGHT
TZOFFSETFROM:+0100
TZOFFSETTO:+0200
TZNAME:CEST
DTSTART:20230326T010000
END:DAYLIGHT
BEGIN:STANDARD
TZOFFSETFROM:+0200
TZOFFSETTO:+0100
TZNAME:CET
DTSTART:20231029T010000
END:STANDARD
BEGIN:DAYLIGHT
TZOFFSETFROM:+0100
TZOFFSETTO:+0200
TZNAME:CEST
DTSTART:20240331T010000
END:DAYLIGHT
BEGIN:STANDARD
TZOFFSETFROM:+0200
TZOFFSETTO:+0100
TZNAME:CET
DTSTART:20241027T010000
END:STANDARD
BEGIN:DAYLIGHT
TZOFFSETFROM:+0100
TZOFFSETTO:+0200
TZNAME:CEST
DTSTART:20250330T010000
END:DAYLIGHT
BEGIN:STANDARD
TZOFFSETFROM:+0200
TZOFFSETTO:+0100
TZNAME:CET
DTSTART:20251026T010000
END:STANDARD
END:VTIMEZONE
BEGIN:VEVENT
DTSTART;TZID=Europe/Paris:20240604T153000
DTEND;TZID=Europe/Paris:20240604T170000
DTSTAMP:20260425T190757
CREATED:20240111T175501Z
LAST-MODIFIED:20240111T175501Z
UID:1863-1717515000-1717520400@foerderverein-stadtbibliothek-syke.de
SUMMARY:Bilderbuchkino
DESCRIPTION:Daniel Napp – „Dr. Brumm geht baden“ und von Korky Paul – „Zilly am Meer
URL:https://foerderverein-stadtbibliothek-syke.de/termin/bilderbuchkino-4/
END:VEVENT
BEGIN:VEVENT
DTSTART;TZID=Europe/Paris:20240604T183000
DTEND;TZID=Europe/Paris:20240604T200000
DTSTAMP:20260425T190757
CREATED:20240216T185018Z
LAST-MODIFIED:20240216T185018Z
UID:1947-1717525800-1717531200@foerderverein-stadtbibliothek-syke.de
SUMMARY:Jahreshauptversammlung
DESCRIPTION:Im Anschluss an die Jahreshauptversammlung folgt die Monatssitzung für Juni.
URL:https://foerderverein-stadtbibliothek-syke.de/termin/jahreshauptversammlung/
END:VEVENT
BEGIN:VEVENT
DTSTART;TZID=Europe/Berlin:20240610T150000
DTEND;TZID=Europe/Berlin:20240610T180000
DTSTAMP:20260425T190757
CREATED:20240510T133145Z
LAST-MODIFIED:20240510T133145Z
UID:2178-1718031600-1718042400@foerderverein-stadtbibliothek-syke.de
SUMMARY:Fototermine "Mein Lieblingsbuch"
DESCRIPTION:Ab dem 10.06.24 ist viermal montags von 15 – 18 Uhr ein Fototermin mit Carsten-Wilm Müller unter dem Thema „Mein Lieblingsbuch“. Über zahlreiche Besucherinnen und Besucher\, die ihr Lieblingsbuch vorstellen mögen\, würden wir uns sehr freuen.
URL:https://foerderverein-stadtbibliothek-syke.de/termin/fototermine-mein-lieblingsbuch/
END:VEVENT
BEGIN:VEVENT
DTSTART;TZID=Europe/Berlin:20240618T153000
DTEND;TZID=Europe/Berlin:20240618T170000
DTSTAMP:20260425T190757
CREATED:20240510T133312Z
LAST-MODIFIED:20240510T133312Z
UID:2180-1718724600-1718730000@foerderverein-stadtbibliothek-syke.de
SUMMARY:Lesecafé
DESCRIPTION:Eva Neuner liest aus ihrem neuen Buch „Mitten im Leben – 25 neue Kurzgeschichten und Gedanken“.
URL:https://foerderverein-stadtbibliothek-syke.de/termin/lesecafe-5/
CATEGORIES:Lesung
END:VEVENT
END:VCALENDAR