BEGIN:VCALENDAR
VERSION:2.0
PRODID:-//Förderverein der Stadtbibliothek Syke e.V. - ECPv6.15.20//NONSGML v1.0//EN
CALSCALE:GREGORIAN
METHOD:PUBLISH
X-ORIGINAL-URL:https://foerderverein-stadtbibliothek-syke.de
X-WR-CALDESC:Veranstaltungen für Förderverein der Stadtbibliothek Syke e.V.
REFRESH-INTERVAL;VALUE=DURATION:PT1H
X-Robots-Tag:noindex
X-PUBLISHED-TTL:PT1H
BEGIN:VTIMEZONE
TZID:Europe/Paris
BEGIN:DAYLIGHT
TZOFFSETFROM:+0100
TZOFFSETTO:+0200
TZNAME:CEST
DTSTART:20220327T010000
END:DAYLIGHT
BEGIN:STANDARD
TZOFFSETFROM:+0200
TZOFFSETTO:+0100
TZNAME:CET
DTSTART:20221030T010000
END:STANDARD
BEGIN:DAYLIGHT
TZOFFSETFROM:+0100
TZOFFSETTO:+0200
TZNAME:CEST
DTSTART:20230326T010000
END:DAYLIGHT
BEGIN:STANDARD
TZOFFSETFROM:+0200
TZOFFSETTO:+0100
TZNAME:CET
DTSTART:20231029T010000
END:STANDARD
BEGIN:DAYLIGHT
TZOFFSETFROM:+0100
TZOFFSETTO:+0200
TZNAME:CEST
DTSTART:20240331T010000
END:DAYLIGHT
BEGIN:STANDARD
TZOFFSETFROM:+0200
TZOFFSETTO:+0100
TZNAME:CET
DTSTART:20241027T010000
END:STANDARD
END:VTIMEZONE
BEGIN:VEVENT
DTSTART;TZID=Europe/Paris:20231205T153000
DTEND;TZID=Europe/Paris:20231205T153000
DTSTAMP:20260426T035017
CREATED:20230818T081141Z
LAST-MODIFIED:20230818T081141Z
UID:1753-1701790200-1701790200@foerderverein-stadtbibliothek-syke.de
SUMMARY:Bilderbuchkino - „Das geheime Buch vom Weihnachtsmann“ & „Zauberfrei für Hermeline“
DESCRIPTION:Angelika Stubner – „Das geheime Buch vom Weihnachtsmann“ undvon Nicholas Oldland – „Drei Freunde – Wilde Weihnachten“ \n\n\n\n\n\nAnmeldung: Stadtbibliothek Syke
URL:https://foerderverein-stadtbibliothek-syke.de/termin/bilderbuchkino-das-geheime-buch-vom-weihnachtsmann-zauberfrei-fuer-hermeline/
END:VEVENT
END:VCALENDAR