BEGIN:VCALENDAR
VERSION:2.0
PRODID:-//Förderverein der Stadtbibliothek Syke e.V. - ECPv6.15.20//NONSGML v1.0//EN
CALSCALE:GREGORIAN
METHOD:PUBLISH
X-WR-CALNAME:Förderverein der Stadtbibliothek Syke e.V.
X-ORIGINAL-URL:https://foerderverein-stadtbibliothek-syke.de
X-WR-CALDESC:Veranstaltungen für Förderverein der Stadtbibliothek Syke e.V.
REFRESH-INTERVAL;VALUE=DURATION:PT1H
X-Robots-Tag:noindex
X-PUBLISHED-TTL:PT1H
BEGIN:VTIMEZONE
TZID:Europe/Paris
BEGIN:DAYLIGHT
TZOFFSETFROM:+0100
TZOFFSETTO:+0200
TZNAME:CEST
DTSTART:20220327T010000
END:DAYLIGHT
BEGIN:STANDARD
TZOFFSETFROM:+0200
TZOFFSETTO:+0100
TZNAME:CET
DTSTART:20221030T010000
END:STANDARD
BEGIN:DAYLIGHT
TZOFFSETFROM:+0100
TZOFFSETTO:+0200
TZNAME:CEST
DTSTART:20230326T010000
END:DAYLIGHT
BEGIN:STANDARD
TZOFFSETFROM:+0200
TZOFFSETTO:+0100
TZNAME:CET
DTSTART:20231029T010000
END:STANDARD
BEGIN:DAYLIGHT
TZOFFSETFROM:+0100
TZOFFSETTO:+0200
TZNAME:CEST
DTSTART:20240331T010000
END:DAYLIGHT
BEGIN:STANDARD
TZOFFSETFROM:+0200
TZOFFSETTO:+0100
TZNAME:CET
DTSTART:20241027T010000
END:STANDARD
END:VTIMEZONE
BEGIN:VEVENT
DTSTART;TZID=Europe/Paris:20231106T000000
DTEND;TZID=Europe/Paris:20231111T235959
DTSTAMP:20260426T051910
CREATED:20230818T112544Z
LAST-MODIFIED:20230818T112544Z
UID:1789-1699228800-1699747199@foerderverein-stadtbibliothek-syke.de
SUMMARY:Krimiwoche - Herbst 2023
DESCRIPTION:In Syke wird es kriminell. Kriminell spannend und unterhaltsam\, denn die Stadtbibliothek lädt zur Krimiwoche. Unterstützt wird sie dabei vom Förderverein und zahlreichen Institutionen vor Ort\, die vom 6. bis 11. November alle ebenfalls zum Tatort werden. \n\n\n\nHier finden Sie einen ausführlichen Bericht aus dem Syker Kurier (Autorin: Sarah Essing) \n\n\n\nDie einzelnen Termine finden Sie auf dem offiziellen Flyer.
URL:https://foerderverein-stadtbibliothek-syke.de/termin/krimiwoche-herbst-2023/
END:VEVENT
BEGIN:VEVENT
DTSTART;TZID=Europe/Paris:20231107T153000
DTEND;TZID=Europe/Paris:20231107T153000
DTSTAMP:20260426T051910
CREATED:20230818T080503Z
LAST-MODIFIED:20230818T080503Z
UID:1750-1699371000-1699371000@foerderverein-stadtbibliothek-syke.de
SUMMARY:Bilderbuchkino - „Haben wir auch nichts vergessen“ & „Zauberfrei für Hermeline“
DESCRIPTION:Andreas Greve – „Haben wir auch nichts vergessen“ undvon Katja Reider – „Zauberfrei für Hermeline“ \n\n\n\nAnmeldung: Stadtbibliothek Syke
URL:https://foerderverein-stadtbibliothek-syke.de/termin/bilderbuchkino-haben-wir-auch-nichts-vergessen-zauberfrei-fuer-hermeline/
END:VEVENT
END:VCALENDAR